BEGIN:VCALENDAR
VERSION:2.0
PRODID:icalendar-ruby
CALSCALE:GREGORIAN
BEGIN:VTIMEZONE
TZID:Europe/London
BEGIN:DAYLIGHT
DTSTART:20210328T020000
TZOFFSETFROM:+0000
TZOFFSETTO:+0100
RRULE:FREQ=YEARLY;BYDAY=-1SU;BYMONTH=3
TZNAME:BST
END:DAYLIGHT
BEGIN:STANDARD
DTSTART:20211031T010000
TZOFFSETFROM:+0100
TZOFFSETTO:+0000
RRULE:FREQ=YEARLY;BYDAY=-1SU;BYMONTH=10
TZNAME:GMT
END:STANDARD
END:VTIMEZONE
BEGIN:VEVENT
DTSTAMP:20260425T231804Z
UID:0arBYw
DTSTART;VALUE=DATE:20211006
DTEND;VALUE=DATE:20211007
CLASS:PUBLIC
CREATED:20210719T113839
LAST-MODIFIED:20260317T150601
LOCATION:Webinar
ORGANIZER:mailto:sian@dataorchard.org.uk
SUMMARY:Taking your organisation’s data maturity to the next level
URL;VALUE=URI:https://ti.to/data-orchard/taking-your-organisation-s-data-ma
 turity-to-the-next-level
URL;VALUE=URI:https://ti.to/data-orchard/taking-your-organisation-s-data-ma
 turity-to-the-next-level
END:VEVENT
BEGIN:VEVENT
DTSTAMP:20260425T231804Z
UID:0arBYw1039299
DTSTART;TZID=Europe/London:20211006T120000
DTEND;TZID=Europe/London:20211006T130000
CLASS:PUBLIC
CREATED:20210719T114059
DESCRIPTION:Please click the link below to join the webinar:\n\n[https://us
 06web.zoom.us/j/83168360219?pwd=bWhCSFdqWjhKWWhETGU2Z2tZSm1ZUT09](https://
 us06web.zoom.us/j/83168360219?pwd=bWhCSFdqWjhKWWhETGU2Z2tZSm1ZUT09)\n\nPas
 scode: 191443\n\\_\\_\\_\\_\\_\\_\\_\\_\\_\nOr One tap mobile :\n\n    
 United Kingdom: +441314601196\,\,83168360219#\,\,\,\,\\*191443#  or +4420
 34815237\,\,83168360219#\,\,\,\,\\*191443#\n\nOr Telephone - dial (for hig
 her quality\, dial a number based on your current location):\n\n     
    United Kingdom: +44 131 460 1196  or +44 203 481 5237  or +44 203 4
 81 5240  or +44 203 901 7895  or +44 208 080 6591  or +44 208 080 6592
   or +44 330 088 5830\n\n        US: +1 301 715 8592  or +1 312 6
 26 6799  or +1 346 248 7799  or +1 669 900 6833  or +1 929 205 6099  o
 r +1 253 215 8782\n\nWebinar ID: 831 6836 0219\n\nPasscode: 191443\n\n  
   International numbers available: [https://us06web.zoom.us/u/kGWQsQdRO](
 https://us06web.zoom.us/u/kGWQsQdRO)
LAST-MODIFIED:20211005T104158
ORGANIZER:mailto:sian@dataorchard.org.uk
SUMMARY:[Taking your organisation’s data maturity to the next level] Webi
 nar
URL;VALUE=URI:https://ti.to/data-orchard/taking-your-organisation-s-data-ma
 turity-to-the-next-level
X-ALT-DESC;FMTTYPE=text/html:Please click the link below to join the webina
 r:\n\n[https://us06web.zoom.us/j/83168360219?pwd=bWhCSFdqWjhKWWhETGU2Z2tZS
 m1ZUT09](https://us06web.zoom.us/j/83168360219?pwd=bWhCSFdqWjhKWWhETGU2Z2t
 ZSm1ZUT09)\n\nPasscode: 191443\n\\_\\_\\_\\_\\_\\_\\_\\_\\_\nOr One tap mo
 bile :\n\n    United Kingdom: +441314601196\,\,83168360219#\,\,\,\,\\*1
 91443#  or +442034815237\,\,83168360219#\,\,\,\,\\*191443#\n\nOr Telephon
 e - dial (for higher quality\, dial a number based on your current locatio
 n):\n\n        United Kingdom: +44 131 460 1196  or +44 203 481 52
 37  or +44 203 481 5240  or +44 203 901 7895  or +44 208 080 6591  or 
 +44 208 080 6592  or +44 330 088 5830\n\n        US: +1 301 715 85
 92  or +1 312 626 6799  or +1 346 248 7799  or +1 669 900 6833  or +1 
 929 205 6099  or +1 253 215 8782\n\nWebinar ID: 831 6836 0219\n\nPasscode
 : 191443\n\n    International numbers available: [https://us06web.zoom.
 us/u/kGWQsQdRO](https://us06web.zoom.us/u/kGWQsQdRO)
URL;VALUE=URI:https://ti.to/data-orchard/taking-your-organisation-s-data-ma
 turity-to-the-next-level
END:VEVENT
END:VCALENDAR
