BEGIN:VCALENDAR
VERSION:2.0
PRODID:icalendar-ruby
CALSCALE:GREGORIAN
BEGIN:VEVENT
DTSTAMP:20260425T231503Z
UID:RQyfug
DTSTART;VALUE=DATE:20210923
DTEND;VALUE=DATE:20210924
CLASS:PUBLIC
CREATED:20210719T100748
DESCRIPTION: Relevant to anyone who’s championing the #data4good cause ei
 ther within a not-for-profit organisation or as a support provider\, funde
 r\, or policy maker.   \n\n We’ll be sharing what the data says about da
 ta maturity\, listening to your feedback\, taking questions and exploring 
 our collective curiosities. \n
LAST-MODIFIED:20260317T150601
LOCATION:Webinar
ORGANIZER:mailto:sian@dataorchard.org.uk
SUMMARY:State of the Sector - Data Maturity in the Not-for-Profit Sector 20
 20
URL;VALUE=URI:https://ti.to/data-orchard/state-of-the-sector-data-maturity-
 in-the-not-for-profit-sector-2020
URL;VALUE=URI:https://ti.to/data-orchard/state-of-the-sector-data-maturity-
 in-the-not-for-profit-sector-2020
END:VEVENT
END:VCALENDAR
