BEGIN:VCALENDAR
VERSION:2.0
PRODID:icalendar-ruby
CALSCALE:GREGORIAN
BEGIN:VEVENT
DTSTAMP:20260425T213119Z
UID:iiy7oQ
DTSTART;VALUE=DATE:20211020
DTEND;VALUE=DATE:20211021
CLASS:PUBLIC
CREATED:20210719T110453
LAST-MODIFIED:20260317T150601
LOCATION:Webinar
ORGANIZER:mailto:sian@dataorchard.org.uk
SUMMARY:Assessing data maturity at scale - an introduction for networks\, m
 embership bodies and infrastructure organisations
URL;VALUE=URI:https://ti.to/data-orchard/assessing-data-maturity-at-scale-a
 n-introduction-for-networks-membership-bodies-and-infrastructure-organisat
 ions
URL;VALUE=URI:https://ti.to/data-orchard/assessing-data-maturity-at-scale-a
 n-introduction-for-networks-membership-bodies-and-infrastructure-organisat
 ions
END:VEVENT
BEGIN:VEVENT
DTSTAMP:20260425T213119Z
UID:iiy7oQ1039301
DTSTART:20211020T120000
DTEND:20211020T130000
CLASS:PUBLIC
CREATED:20210719T110919
DESCRIPTION:<span class="colour" style="color: rgb(60\, 64\, 67)\;">Join fr
 om a PC\, Mac\, iPad\, iPhone or Android device:\n    Please click this UR
 L to join. </span> [https://us06web.zoom.us/j/85901820570?pwd=aWxXallicWlz
 L1AyVjJoMkpQby8vUT09](https://www.google.com/url?q=https://us06web.zoom.us
 /j/85901820570?pwd%3DaWxXallicWlzL1AyVjJoMkpQby8vUT09&sa=D&source=calendar
 &ust=1634979989849626&usg=AOvVaw0Ptktp__OLKGST9rwlByid) <span class="colou
 r" style="color: rgb(60\, 64\, 67)\;"></span>\n<span class="colour" style=
 "color: rgb(60\, 64\, 67)\;">Passcode: 072969\n</span>\n\n<span class="col
 our" style="color: rgb(60\, 64\, 67)\;">\nOr One tap mobile:\n    +4420348
 15237\,\,85901820570#\,\,\,\,*072969# United Kingdom\n    +442034815240\,\
 ,85901820570#\,\,\,\,*072969# United Kingdom\n</span>\n\n<span class="colo
 ur" style="color: rgb(60\, 64\, 67)\;">\nOr join by phone:\n    Dial(for h
 igher quality\, dial a number based on your current location):\n</span>\n<
 span class="colour" style="color: rgb(60\, 64\, 67)\;">United Kingdom: +44
  203 481 5237 or +44 203 481 5240 or +44 203 901 7895 or +44 208 080 6591 
 or +44 208 080 6592 or +44 330 088 5830 or +44 131 460 1196</span>\n<span 
 class="colour" style="color: rgb(60\, 64\, 67)\;">\n        US: +1 253 215
  8782  or +1 301 715 8592  or +1 312 626 6799  or +1 346 248 7799  or +1 6
 69 900 6833  or +1 929 205 6099 \n    Webinar ID: 859 0182 0570\n    Passc
 ode: 072969\n</span>\n<span class="colour" style="color: rgb(60\, 64\, 67)
 \;"></span>\n<span class="colour" style="color: rgb(60\, 64\, 67)\;">Inter
 national numbers available:</span> [https://us06web.zoom.us/u/kbzn78VYkF](
 https://www.google.com/url?q=https://us06web.zoom.us/u/kbzn78VYkF&sa=D&sou
 rce=calendar&ust=1634979989849626&usg=AOvVaw3T-2KnP6KPObPSKBJ9BL7U) <span 
 class="colour" style="color: rgb(60\, 64\, 67)\;"></span>
LAST-MODIFIED:20211018T091543
ORGANIZER:mailto:sian@dataorchard.org.uk
SUMMARY:[Assessing data maturity at scale - an introduction for networks\, 
 membership bodies and infrastructure organisations] Webinar
URL;VALUE=URI:https://ti.to/data-orchard/assessing-data-maturity-at-scale-a
 n-introduction-for-networks-membership-bodies-and-infrastructure-organisat
 ions
X-ALT-DESC;FMTTYPE=text/html:<span class="colour" style="color: rgb(60\, 64
 \, 67)\;">Join from a PC\, Mac\, iPad\, iPhone or Android device:\n    Ple
 ase click this URL to join. </span> [https://us06web.zoom.us/j/85901820570
 ?pwd=aWxXallicWlzL1AyVjJoMkpQby8vUT09](https://www.google.com/url?q=https:
 //us06web.zoom.us/j/85901820570?pwd%3DaWxXallicWlzL1AyVjJoMkpQby8vUT09&sa=
 D&source=calendar&ust=1634979989849626&usg=AOvVaw0Ptktp__OLKGST9rwlByid) <
 span class="colour" style="color: rgb(60\, 64\, 67)\;"></span>\n<span clas
 s="colour" style="color: rgb(60\, 64\, 67)\;">Passcode: 072969\n</span>\n\
 n<span class="colour" style="color: rgb(60\, 64\, 67)\;">\nOr One tap mobi
 le:\n    +442034815237\,\,85901820570#\,\,\,\,*072969# United Kingdom\n   
  +442034815240\,\,85901820570#\,\,\,\,*072969# United Kingdom\n</span>\n\n
 <span class="colour" style="color: rgb(60\, 64\, 67)\;">\nOr join by phone
 :\n    Dial(for higher quality\, dial a number based on your current locat
 ion):\n</span>\n<span class="colour" style="color: rgb(60\, 64\, 67)\;">Un
 ited Kingdom: +44 203 481 5237 or +44 203 481 5240 or +44 203 901 7895 or 
 +44 208 080 6591 or +44 208 080 6592 or +44 330 088 5830 or +44 131 460 11
 96</span>\n<span class="colour" style="color: rgb(60\, 64\, 67)\;">\n     
    US: +1 253 215 8782  or +1 301 715 8592  or +1 312 626 6799  or +1 346 
 248 7799  or +1 669 900 6833  or +1 929 205 6099 \n    Webinar ID: 859 018
 2 0570\n    Passcode: 072969\n</span>\n<span class="colour" style="color: 
 rgb(60\, 64\, 67)\;"></span>\n<span class="colour" style="color: rgb(60\, 
 64\, 67)\;">International numbers available:</span> [https://us06web.zoom.
 us/u/kbzn78VYkF](https://www.google.com/url?q=https://us06web.zoom.us/u/kb
 zn78VYkF&sa=D&source=calendar&ust=1634979989849626&usg=AOvVaw3T-2KnP6KPObP
 SKBJ9BL7U) <span class="colour" style="color: rgb(60\, 64\, 67)\;"></span>
URL;VALUE=URI:https://ti.to/data-orchard/assessing-data-maturity-at-scale-a
 n-introduction-for-networks-membership-bodies-and-infrastructure-organisat
 ions
END:VEVENT
END:VCALENDAR
