BEGIN:VCALENDAR
VERSION:2.0
PRODID:icalendar-ruby
CALSCALE:GREGORIAN
BEGIN:VEVENT
DTSTAMP:20260426T021700Z
UID:hcPhHg
DTSTART;VALUE=DATE:20220317
DTEND;VALUE=DATE:20220318
CLASS:PUBLIC
CREATED:20220215T150851
DESCRIPTION: This webinar is for anyone in a charity\, social enterprise\, 
 cooperative\, or public sector organisation who wants their organisation t
 o get better with data. Especially those at the early stages of exploring 
 how better use of data can help their organisation have greater impact. \n
 \n WHAT YOU WILL LEARN: \n\n \n What we mean by data and data maturity \n 
 The key factors that influence success in organisational data maturity \n 
 Benefits and rewards of data maturity for your services and cause \n How y
 ou can assess your organisation’s level of data maturity and identify ar
 eas to improve. \n \n
LAST-MODIFIED:20260317T150601
LOCATION:Zoom
ORGANIZER:mailto:sian@dataorchard.org.uk
SUMMARY:A Beginner's Introduction to Data Maturity
URL;VALUE=URI:https://ti.to/data-orchard/a-beginners-introduction-to-data-m
 aturity
URL;VALUE=URI:https://ti.to/data-orchard/a-beginners-introduction-to-data-m
 aturity
END:VEVENT
BEGIN:VEVENT
DTSTAMP:20260426T021700Z
UID:hcPhHg1043820
DTSTART:20220317T120000
DTEND:20220317T130000
CLASS:PUBLIC
CREATED:20220215T152514
DESCRIPTION:<span class="colour" style="color: rgb(40\, 60\, 70)\;">Join Zo
 om Meeting</span>\n[https://us06web.zoom.us/j/83166956010](https://us06web
 .zoom.us/j/83166956010)\n\n<span class="colour" style="color: rgb(40\, 60\
 , 70)\;">Meeting ID: 831 6695 6010</span>
LAST-MODIFIED:20220222T100242
ORGANIZER:mailto:sian@dataorchard.org.uk
SUMMARY:[A Beginner's Introduction to Data Maturity] Webinar
URL;VALUE=URI:https://ti.to/data-orchard/a-beginners-introduction-to-data-m
 aturity
X-ALT-DESC;FMTTYPE=text/html:<span class="colour" style="color: rgb(40\, 60
 \, 70)\;">Join Zoom Meeting</span>\n[https://us06web.zoom.us/j/83166956010
 ](https://us06web.zoom.us/j/83166956010)\n\n<span class="colour" style="co
 lor: rgb(40\, 60\, 70)\;">Meeting ID: 831 6695 6010</span>
URL;VALUE=URI:https://ti.to/data-orchard/a-beginners-introduction-to-data-m
 aturity
END:VEVENT
END:VCALENDAR
