BEGIN:VCALENDAR
VERSION:2.0
PRODID:icalendar-ruby
CALSCALE:GREGORIAN
BEGIN:VTIMEZONE
TZID:America/Los_Angeles
BEGIN:DAYLIGHT
DTSTART:20230312T030000
TZOFFSETFROM:-0800
TZOFFSETTO:-0700
RRULE:FREQ=YEARLY;BYDAY=2SU;BYMONTH=3
TZNAME:PDT
END:DAYLIGHT
BEGIN:STANDARD
DTSTART:20231105T010000
TZOFFSETFROM:-0700
TZOFFSETTO:-0800
RRULE:FREQ=YEARLY;BYDAY=1SU;BYMONTH=11
TZNAME:PST
END:STANDARD
END:VTIMEZONE
BEGIN:VEVENT
DTSTAMP:20260421T102613Z
UID:dkViMw
DTSTART;VALUE=DATE:20230607
DTEND;VALUE=DATE:20230608
CLASS:PUBLIC
CREATED:20230523T180058
DESCRIPTION: The annual live audience episode of The Talk Show during the w
 eek of WWDC. John Gruber will (probably) be joined by one or more special 
 guests. Doors open at 4 pm. Show starts at 5 pm. \n
LAST-MODIFIED:20240601T184402
LOCATION:The California Theatre\, San Jose\, California
ORGANIZER:mailto:noreply-calendar@tito.io
SUMMARY:The Talk Show Live From WWDC 2023
URL;VALUE=URI:https://ti.to/daringfireball/the-talk-show-live-from-wwdc-202
 3
URL;VALUE=URI:https://ti.to/daringfireball/the-talk-show-live-from-wwdc-202
 3
END:VEVENT
END:VCALENDAR
