BEGIN:VCALENDAR
VERSION:2.0
PRODID:icalendar-ruby
CALSCALE:GREGORIAN
BEGIN:VEVENT
DTSTAMP:20260420T134746Z
UID:YdHcow
DTSTART:20250926T200000
DTEND:20250926T230000
CLASS:PUBLIC
CREATED:20250804T154350
DESCRIPTION: 🎶 Музыка\, которая остаётся в сер
 дце навсегда. \n\n Белорусский регги\, напо
 лненный свободой\, любовью\, теплом соула
  и дыханием джаза. \n\n Это звучание невозм
 ожно спутать — оно нежное\, живое и по-на
 стоящему личное. \n\n Botanic Project — группа с у
 никальным стилем на стыке жанров и чувст
 в. \n\n Их песни — как вечерние разговоры п
 од звёздами: тёплые\, честные\, настоящие.
  \n\n ✨ Вечер\, который останется с тобой н
 адолго — и в сердце\, и в памяти. \n
LAST-MODIFIED:20250922T120901
LOCATION:Paradiso di Eros\, Λαπήθου\, Lapithou\, Foinikaria\, Limass
 ol\, Cyprus
ORGANIZER:mailto:ujint777@gmail.com
SUMMARY:Botanic Project 26.09
URL;VALUE=URI:https://ti.to/cyprus-concerts/botanic-project-2609
URL;VALUE=URI:https://ti.to/cyprus-concerts/botanic-project-2609
END:VEVENT
END:VCALENDAR
