BEGIN:VCALENDAR
VERSION:2.0
PRODID:icalendar-ruby
CALSCALE:GREGORIAN
BEGIN:VEVENT
DTSTAMP:20260425T154111Z
UID:EwSGiA
DTSTART;VALUE=DATE:20220716
DTEND;VALUE=DATE:20220725
CLASS:PUBLIC
CREATED:20220207T193819
DESCRIPTION: Von den bizarren Buntsandsteinfelsformationen des Pfälzer Wal
 des über die Weinstraßen des Elsass bis hin zum Burgruinen-Hopping in de
 n Nordvogesen: unsere 2022er Gravel-Entdeckungsreise für Genießer:innen 
 eröffnet einen Parcours\, der nicht nur atemberaubende Ausblicke\, sonder
 n auch für diverse Gaumenfreuden vom Rostigen Ritter über feine Flammkuc
 hen bis hin zu allgegenwärtigen Wein bietet. Bergfex:innen werden in der 
 Pfalz und den Vogesen außerdem das Gravel-Revier des Südwestens lieben l
 ernen\, das stets zwischen sanft hügeligen Gelände und steilen Anstiegen
  changiert. \n
LAST-MODIFIED:20250513T182107
LOCATION:Bad Dürkheim => Straßburg
ORGANIZER:mailto:cyclocross.berlin@gmail.com
SUMMARY:Summer Gravel Travel WfFxCXB '22: Pfalz & Vogesen
URL;VALUE=URI:https://ti.to/cx-berlin/SummerGravelTravel
URL;VALUE=URI:https://ti.to/cx-berlin/SummerGravelTravel
END:VEVENT
END:VCALENDAR
