BEGIN:VCALENDAR
VERSION:2.0
PRODID:icalendar-ruby
CALSCALE:GREGORIAN
BEGIN:VEVENT
DTSTAMP:20260422T090357Z
UID:OT9jdA
DTSTART:20260228T100000
DTEND:20260228T140000
CLASS:PUBLIC
CREATED:20260127T141355
DESCRIPTION: Tá muid ag eagrú oll-dianchúrsa arís i mbliana le linn She
 achtain na Gaeilge le Energia i gcuimhne ár gcara mór\, Matt Lundy. Bhí
  Matt ina fhathach i measc an phobail\, Gael go smior a chur an Ghaeilge c
 hun cinn gach áit a ndeachaigh sé agus le gach duine ar chás sé orthu\
 ; idir bhunú Ghaelscoileanna agus ag teagasc Gaeilge do na mílte duine i
  ranganna pobail fríd na blianta. Níl léamh\, scríobh ná insint béil
  ar an tionchar a bhí ag Matt ar dhaoine agus ar phobail leis an spreagad
 h\, an tacaíocht agus an misneach a chothaigh sé fríd a shaoil. Ní bhe
 idh a leithéid arís ann. Is deis é seo do dhaoine theacht le chéile\, 
 cleachtadh a dhéanamh nó tús a chur lena n-aistear teanga. Ní féidir 
 linn ómós níos fóirsteanaí a shamhlú d'ár gcara Matt. \n28/02/2026\
 n10am-2pm\nColáiste Feirste\, Béal Feirste \n\n We are organising an int
 ensive course this year during Seachtain na Gaeilge in memory of our frien
 d\, Matt Lundy. Matt was a giant in the community\, a Gael through and thr
 ough who promoted the Irish language wherever he went and among everyone h
 e met\; from founding Irish-medium schools to teaching Irish to thousands 
 in community classes throughout the years. Words cannot describe the influ
 ence that Matt had on people and community\, with the inspiration\, suppor
 t and courage he demonstrated throughout his life. There will never be the
  likes of him again. This course will be an opportunity for people to come
  together\, to practice or to begin their Irish language journey. We could
 n't imagine a more fitting tribute to Matt. \n\n *Is gá íoc le d'áit a 
 dhearbhú | Payment required to secure your place* \n\n Roghanna Ranganna:
  \n\n \n Glantosaitheoirí | Complete Beginners \n Bunrang | Beginners  \n
  Meánrang Íochtarach | Lower Intermediate  \n Meánrang Uachtarach | Upp
 er Intermediate  \n Ardrang  \n \n
LAST-MODIFIED:20260226T074715
LOCATION:Coláiste Feirste\, Béal Feirste
ORGANIZER:mailto:uithuama@cnag.ie
SUMMARY:Scoil Ghaeilge Mhic Giolla Fhiondáin
URL;VALUE=URI:https://ti.to/culturlann/scoil-ghaeilge-mhic-giolla-fhiondain
URL;VALUE=URI:https://ti.to/culturlann/scoil-ghaeilge-mhic-giolla-fhiondain
END:VEVENT
END:VCALENDAR
