BEGIN:VCALENDAR
VERSION:2.0
PRODID:icalendar-ruby
CALSCALE:GREGORIAN
BEGIN:VEVENT
DTSTAMP:20260425T212809Z
UID:IxHhlg
DTSTART;VALUE=DATE:20190918
DTEND;VALUE=DATE:20190920
CLASS:PUBLIC
CREATED:20190220T174707
DESCRIPTION: Join like-minded industry leaders who understand that when it 
 comes to ‘digital transformation’\, no matter how good the technology 
 or meticulous your planning\, there’s one factor that separates success 
 from failure: people. \n\n Venue: St Ethelburga's Centre for Reconciliatio
 n and Peace\, 78 Bishopsgate\, London\, EC2N 4AG\, UK \n\n Details: https:
 //www.culturecon.io \n
LAST-MODIFIED:20190917T143350
LOCATION:London
ORGANIZER:mailto:nicola@culturecon.io
SUMMARY:CultureCon 2019
URL;VALUE=URI:https://ti.to/cultureconio/2019
URL;VALUE=URI:https://ti.to/cultureconio/2019
END:VEVENT
END:VCALENDAR
