BEGIN:VCALENDAR
VERSION:2.0
PRODID:icalendar-ruby
CALSCALE:GREGORIAN
BEGIN:VEVENT
DTSTAMP:20260421T191438Z
UID:fhM6dw
DTSTART:20251231T161500
DTEND:20251231T173000
CLASS:PUBLIC
CREATED:20251103T084943
DESCRIPTION: New Year's Eve Party!\nDate: Wednesday 31st December \n\n Loca
 tion: Tramore\, Riverstown Community Centre\, X91 F2AH \n\n Time: 4.15pm -
  5.30pm \n\n Price: €5 for Cuidiú members\, €7 for non-members (1 tic
 ket per family) \n\n Booking is essential as numbers are limited \n\n Suit
 able for ages 0-5yrs\nParent/Caregiver stay for the party\, meet other par
 ents\, chat and have a cuppa \n\n Lights\, Music and Fun to say Hello to 2
 026!\n• New Years Eve craft stations\n• A Happy Near Year Countdown!\n
 • Photo opportunity with our New Years backdrop \n
LAST-MODIFIED:20251231T082428
LOCATION:Tramore\, Riverstown Community Centre\, X91 F2A
ORGANIZER:mailto:waterford@cuidiu.ie
SUMMARY:Cuidiú Waterford: New Year's Eve Party 31st December 2025 Tramore
URL;VALUE=URI:https://ti.to/cuidiu/new-years-eve-party-31st-december-tramor
 e-2025
URL;VALUE=URI:https://ti.to/cuidiu/new-years-eve-party-31st-december-tramor
 e-2025
END:VEVENT
END:VCALENDAR
