BEGIN:VCALENDAR
VERSION:2.0
PRODID:icalendar-ruby
CALSCALE:GREGORIAN
BEGIN:VEVENT
DTSTAMP:20260422T085527Z
UID:dgP5OQ
DTSTART;VALUE=DATE:20170621
DTEND;VALUE=DATE:20170626
CLASS:PUBLIC
CREATED:20170201T111045
DESCRIPTION: A week of events for people who love Cucumber.   \n\n We've di
 stilled all the beautiful fuzzy amazing weirdness of CukeUp! into a one-da
 y\, single-track event in Shoreditch\, with a preceding BDD training and a
  follow-on weekend open space focused on building the Cucumber community\,
  whilst also giving space for advanced practitioners to share innovative i
 deas\, and for workshops that dive deeper than the single-track day can ac
 commodate. \n\n \n June 21st-22nd: BDD Kickstart: A world-class\, two-day 
 BDD training \n June 23rd: CukeUp! London: A single track\, one-day confer
 ence for the whole software team. \n June 24th-25th: CukenSpace: A weekend
  open space for experienced practitioners and the open-source community. \
 n \n
LAST-MODIFIED:20230228T161058
LOCATION:London
ORGANIZER:mailto:theo@cucumber.io
SUMMARY:CukenFest\, London 2017
URL;VALUE=URI:https://ti.to/cucumber/cukeup-london-2017
URL;VALUE=URI:https://ti.to/cucumber/cukeup-london-2017
END:VEVENT
END:VCALENDAR
