BEGIN:VCALENDAR
VERSION:2.0
PRODID:icalendar-ruby
CALSCALE:GREGORIAN
BEGIN:VEVENT
DTSTAMP:20260424T153020Z
UID:YAXVBA
DTSTART;VALUE=DATE:20180320
DTEND;VALUE=DATE:20180324
CLASS:PUBLIC
CREATED:20170824T025305
DESCRIPTION: A 4-day festival for technologists\, designers and creatives. 
 More information: CSSConf AU\, JSConf AU. \n\n We’re deeply committed to
  diversity and inclusion. We’d love to have you. ❤️ \n
LAST-MODIFIED:20180323T034707
LOCATION:Melbourne\, Australia
ORGANIZER:mailto:team@cssconf.com.au
SUMMARY:CSSConf and JSConf Australia 2018
URL;VALUE=URI:https://ti.to/cssconf-au/2018
URL;VALUE=URI:https://ti.to/cssconf-au/2018
END:VEVENT
END:VCALENDAR
