BEGIN:VCALENDAR
VERSION:2.0
PRODID:icalendar-ruby
CALSCALE:GREGORIAN
BEGIN:VEVENT
DTSTAMP:20260424T160319Z
UID:HYMKeg
DTSTART;VALUE=DATE:20140409
DTEND;VALUE=DATE:20140412
CLASS:PUBLIC
CREATED:20131227T001327
DESCRIPTION: Early bird available until February 10th and are extremely lim
 ited \n
LAST-MODIFIED:20150226T221055
LOCATION:Melbourne\, Australia
ORGANIZER:mailto:team@cssconf.com.au
SUMMARY:CSSConf AU 2014
URL;VALUE=URI:https://ti.to/cssconf-au/2014
URL;VALUE=URI:https://ti.to/cssconf-au/2014
END:VEVENT
END:VCALENDAR
