BEGIN:VCALENDAR
VERSION:2.0
PRODID:icalendar-ruby
CALSCALE:GREGORIAN
BEGIN:VEVENT
DTSTAMP:20260423T194214Z
UID:yZWw7A
DTSTART:20260915T093000
DTEND:20260915T170000
CLASS:PUBLIC
CREATED:20260407T140406
DESCRIPTION: Discover TechBio Day 2026\, CSEM’s flagship bioconvergence e
 vent on diagnostics\, on-body sensing\, multi-omics\, and wearable health 
 tech. \n\n Exploring how diagnostics evolve through bioconvergence—from 
 reliable\npoint‑of‑care solutions to continuous\, clinically relevant 
 health intelligence.\nThis is a focused event for professionals shaping th
 e next generation of\ndiagnostics and wearable health technologies. \n\n R
 egistration fees are non-refundable. However\, if you are unable to attend
 \, you may nominate a colleague to participate in your place. \n
LAST-MODIFIED:20260423T142354
LOCATION:blue Cinema Abaton Zurich
ORGANIZER:mailto:events@csem.ch
SUMMARY:TechBioDay\, September 15\, 2026
URL;VALUE=URI:https://ti.to/csem/techbioday-2026
URL;VALUE=URI:https://ti.to/csem/techbioday-2026
END:VEVENT
END:VCALENDAR
