BEGIN:VCALENDAR
VERSION:2.0
PRODID:icalendar-ruby
CALSCALE:GREGORIAN
BEGIN:VEVENT
DTSTAMP:20260425T211300Z
UID:Jw9r7Q
DTSTART:20251202T090000
DTEND:20251202T170000
CLASS:PUBLIC
CREATED:20250722T131522
DESCRIPTION: Join us for the Next-gen single-cell omics workshop\, a one-da
 y event at the forefront of bioconvergence that brings together pioneers a
 nd innovators from the pharma and biotech industries\, clinical practice\,
  start-ups\, regulation\, and research. \n\n Single-cell technologies are 
 revolutionizing complex 3D models and tissue studies\, enabling a unpreced
 ented understanding of how cells behave and function in drug testing\, reg
 enerative medicine\, and clinical diagnostics. \n\n  \nRegistration fees a
 re non-refundable. However\, if you are unable to attend\, you may nominat
 e a colleague to participate in your place. \n
LAST-MODIFIED:20251104T132247
LOCATION:Hôtel Aquatis Lausanne
ORGANIZER:mailto:events@csem.ch
SUMMARY:Next-gen single-cell omics workshop\, December 2\, 2025
URL;VALUE=URI:https://ti.to/csem/next-gen-single-cell-omics-workshop
URL;VALUE=URI:https://ti.to/csem/next-gen-single-cell-omics-workshop
END:VEVENT
END:VCALENDAR
