BEGIN:VCALENDAR
VERSION:2.0
PRODID:icalendar-ruby
CALSCALE:GREGORIAN
BEGIN:VTIMEZONE
TZID:Europe/Stockholm
BEGIN:DAYLIGHT
DTSTART:20210328T030000
TZOFFSETFROM:+0100
TZOFFSETTO:+0200
RRULE:FREQ=YEARLY;BYDAY=-1SU;BYMONTH=3
TZNAME:CEST
END:DAYLIGHT
BEGIN:STANDARD
DTSTART:20201025T020000
TZOFFSETFROM:+0200
TZOFFSETTO:+0100
RRULE:FREQ=YEARLY;BYDAY=-1SU;BYMONTH=10
TZNAME:CET
END:STANDARD
END:VTIMEZONE
BEGIN:VEVENT
DTSTAMP:20260423T155844Z
UID:daIsEQ
DTSTART;VALUE=DATE:20210127
DTEND;VALUE=DATE:20210128
CLASS:PUBLIC
CREATED:20201106T092636
DESCRIPTION: We are thrilled to announce our very first online conference -
  Crisp Day - where our own Crisp experts will share their valuable insight
 s and knowledge with you. \n\n On January 27th\, 13:00-17:00 CET\, we will
  host an afternoon filled with inspiration on topics like Product Strategy
 \, AI\, Remote working\, Hexagonal Architecture\, Team Success Metrics\, a
 nd much more. \n\n Join us to get a kick start in 2021 with new learnings 
 and new connections! \n
LAST-MODIFIED:20211116T143603
LOCATION:Online
ORGANIZER:mailto:michael.gothe@crisp.se
SUMMARY:Crisp Day 2021
URL;VALUE=URI:https://ti.to/crisp-day/crisp-day-2021
URL;VALUE=URI:https://ti.to/crisp-day/crisp-day-2021
END:VEVENT
END:VCALENDAR
