BEGIN:VCALENDAR
VERSION:2.0
PRODID:icalendar-ruby
CALSCALE:GREGORIAN
BEGIN:VTIMEZONE
TZID:Europe/Dublin
BEGIN:DAYLIGHT
DTSTART:20261025T010000
TZOFFSETFROM:+0100
TZOFFSETTO:+0000
RRULE:FREQ=YEARLY;BYDAY=-1SU;BYMONTH=10
TZNAME:GMT
END:DAYLIGHT
BEGIN:STANDARD
DTSTART:20260329T020000
TZOFFSETFROM:+0000
TZOFFSETTO:+0100
RRULE:FREQ=YEARLY;BYDAY=-1SU;BYMONTH=3
TZNAME:IST
END:STANDARD
END:VTIMEZONE
BEGIN:VEVENT
DTSTAMP:20260424T084105Z
UID:3u7pKw
DTSTART;TZID=Europe/Dublin:20260506T120000
DTEND;TZID=Europe/Dublin:20260506T150000
CLASS:PUBLIC
CREATED:20260422T112014
DESCRIPTION: A 3-hour hands-on workshop introducing the Soniphorm Smart Con
 tact Mic — a small programmable PCB that turns everyday surfaces and obj
 ects into instruments and recording devices. We'll explore how contact mic
 s reveal hidden sounds in the world around us\, work with the SCM to captu
 re\, shape and respond to vibration\, and build short experimental pieces 
 from what we find. No prior experience with electronics or sound design ne
 eded. \n\n Smart Contact Mics will be provided for the duration of the wor
 kshop. Participants should bring a laptop with the Chrome browser (or an A
 ndroid phone) and wired headphones. Places are limited. \n\n This workshop
  is hosted by the Centre for Creative Technologies @ University of Galway.
  \n\n Instructor Bio \n\n  \nEd Devane is a sound artist\, instrument buil
 der and educator based in Gweedore\, Co. Donegal. Through his studio Sonip
 horm\, he develops accessible tools and workshops that bring creative elec
 tronics and experimental sound into classrooms\, galleries and community s
 paces. He has delivered STEAM workshops at NCAD\, University of Limerick\,
  LSAD\, Trinity College Dublin and Science Gallery Dublin. \n
LAST-MODIFIED:20260423T132455
LOCATION:Studio 3\, O'Donoghue Centre\, University of Galway
ORGANIZER:mailto:centrecreativetechnologies@universityofgalway.ie
SUMMARY:Workshop: Exploring Sound with Programmable Contact Microphones
URL;VALUE=URI:https://ti.to/creative-tech/workshop-ed-devane-2026
URL;VALUE=URI:https://ti.to/creative-tech/workshop-ed-devane-2026
END:VEVENT
END:VCALENDAR
