BEGIN:VCALENDAR
VERSION:2.0
PRODID:icalendar-ruby
CALSCALE:GREGORIAN
BEGIN:VEVENT
DTSTAMP:20260421T083008Z
UID:RjirKA
DTSTART:20260225T113000
DTEND:20260225T123000
CLASS:PUBLIC
CREATED:20260129T114851
DESCRIPTION: You are invited to join Jane Cassidy as she continues her week
 ly Drop-In Creativity Practice Sessions. \n\n During her spring residency 
 at the Centre for Creative Technologies\, Jane is offering these free week
 ly sessions\, drawing on her strong Deep Listening practice influenced by 
 composer and musician Pauline Oliveros. Over the coming months\, she aims 
 to cultivate a gentle and generous creative process for herself and to wel
 come others into that exploration. \n\n The sessions will focus on:\n• E
 mbodiment exercises\n• Listening meditations\n• Group improvisation \n
 \n No previous experience or musical background is required.\nParticipants
  are encouraged to bring a pen and a notebook. \n\n Sessions are open to m
 embers of the university community as well as the public.\nPlease get in t
 ouch if you have any questions. \n\n Directions:\nCCT Studio 3 in located 
 within the O'Donoghue Centre for Drama\, Theatre and Performance on the So
 uth Campus of the University of Galway\, adjacent to Áras na Mac Léinn a
 nd Sult. \n
LAST-MODIFIED:20260225T110722
LOCATION:CCT Studio 3\, O'Donoghue Centre for Drama\, University of Galway
ORGANIZER:mailto:janecass@gmail.com
SUMMARY:Creativity Practices Drop-In Session 7
URL;VALUE=URI:https://ti.to/creative-tech/creativity-drop-in-session-7
URL;VALUE=URI:https://ti.to/creative-tech/creativity-drop-in-session-7
END:VEVENT
END:VCALENDAR
