BEGIN:VCALENDAR
VERSION:2.0
PRODID:icalendar-ruby
CALSCALE:GREGORIAN
BEGIN:VTIMEZONE
TZID:Europe/Budapest
BEGIN:DAYLIGHT
DTSTART:20230326T030000
TZOFFSETFROM:+0100
TZOFFSETTO:+0200
RRULE:FREQ=YEARLY;BYDAY=-1SU;BYMONTH=3
TZNAME:CEST
END:DAYLIGHT
BEGIN:STANDARD
DTSTART:20231029T020000
TZOFFSETFROM:+0200
TZOFFSETTO:+0100
RRULE:FREQ=YEARLY;BYDAY=-1SU;BYMONTH=10
TZNAME:CET
END:STANDARD
END:VTIMEZONE
BEGIN:VEVENT
DTSTAMP:20260420T141052Z
UID:AqvNDg
DTSTART;VALUE=DATE:20231005
DTEND;VALUE=DATE:20231007
CLASS:PUBLIC
CREATED:20230306T132837
DESCRIPTION: Compass Tech Summit is an inclusive and professional conferenc
 e about Artificial Intelligence\, Machine Learning\, Data\, User Experienc
 e\, User Interface\, Product Management\, and Engineering Leadership\, pre
 senting which tools\, methods\, and practices should be part of the toolbo
 x of a modern developer and company. Our event is serving as a compass on 
 new technologies and trends where you can learn from top-notch internation
 al practitioners in our community. \n\n CraftHub is an organization that m
 akes knowledge available\, helps communities improve their abilities\, and
  continuously develops them. We offer multiple online workshops for our fo
 llowers with the aim to contribute to their professional development this 
 way. \n\n Schedule \n\n Workshop days: October 4 \n\n Conference days: Oct
 ober 5-6 \n\n Contact \n\n If you face any problems\, please let us know a
 t hello@crafthub.events. \n
LAST-MODIFIED:20260306T163701
LOCATION:Hungarian Railway Museum (Magyar Vasúttörténeti Park)
ORGANIZER:mailto:hello@crafthub.events
SUMMARY:Compass Tech Summit 2023
URL;VALUE=URI:https://ti.to/crafthub/compass-tech-summit-2023
URL;VALUE=URI:https://ti.to/crafthub/compass-tech-summit-2023
END:VEVENT
END:VCALENDAR
