BEGIN:VCALENDAR
VERSION:2.0
PRODID:icalendar-ruby
CALSCALE:GREGORIAN
BEGIN:VEVENT
DTSTAMP:20260422T230414Z
UID:NBoiaA
DTSTART;VALUE=DATE:20160201
DTEND;VALUE=DATE:20160202
CLASS:PUBLIC
CREATED:20160126T142516
LAST-MODIFIED:20160127T003740
LOCATION:Dogpatch Labs
ORGANIZER:mailto:todormihai@gmail.com
SUMMARY:February C/C++ Meetup
URL;VALUE=URI:https://ti.to/cppdug/february-c-c-meetup
URL;VALUE=URI:https://ti.to/cppdug/february-c-c-meetup
END:VEVENT
END:VCALENDAR
