BEGIN:VCALENDAR
VERSION:2.0
PRODID:icalendar-ruby
CALSCALE:GREGORIAN
BEGIN:VEVENT
DTSTAMP:20260425T184304Z
UID:oexXWw
DTSTART;VALUE=DATE:20151016
DTEND;VALUE=DATE:20151017
CLASS:PUBLIC
CREATED:20150623T203841
DESCRIPTION: Join the World's biggest marketing tech companies and brands o
 n October 16 for this follow up to the phenomenal  Online Influence Confer
 ence. \n
LAST-MODIFIED:20151217T105802
LOCATION:Bristol\, England\, UK
ORGANIZER:mailto:paul@coupmedia.co.uk
SUMMARY:Oi West
URL;VALUE=URI:https://ti.to/coupmedia/oi-west
URL;VALUE=URI:https://ti.to/coupmedia/oi-west
END:VEVENT
END:VCALENDAR
