BEGIN:VCALENDAR
VERSION:2.0
PRODID:icalendar-ruby
CALSCALE:GREGORIAN
BEGIN:VEVENT
DTSTAMP:20260425T122909Z
UID:J2mrqQ
DTSTART;VALUE=DATE:20170726
DTEND;VALUE=DATE:20170727
CLASS:PUBLIC
CREATED:20170712T082715
DESCRIPTION: The UX community in Dublin are all invited to come together th
 is July for Conflux\; an evening of talks\, networking\, giveaways\, BBQ a
 nd drinks. This unique event is being co-hosted by Dublin UX\, IxDA Dublin
 \, Dublin Design Thinking &amp\; Service Design\, UXDX\, Ladies That UX an
 d UXTomorrow meetup groups and being supported by CarTrawler.  \n\n The fo
 cus for this event will be all about the users – what they think versus 
 what they do. Talks on the night will concentrate on cyberpsychology\, und
 erstanding user motivations and  cognitive triggers and will be delievered
  by Karen Price (Epsilon)\, Hannah Barton (IADT) and Nicola Fox-Hamilton (
 IADT). \n\n When: Wed 26th July at 18:45 \n\n Where: CarTrawler Offices (W
 indy Arbour Luas stop) \n\n How: Register for free below \n
LAST-MODIFIED:20231212T102856
LOCATION:Dublin\, Ireland
ORGANIZER:mailto:john@frontend.com
SUMMARY:Conflux 2017
URL;VALUE=URI:https://ti.to/conflux/conflux-2017
URL;VALUE=URI:https://ti.to/conflux/conflux-2017
END:VEVENT
END:VCALENDAR
