BEGIN:VCALENDAR
VERSION:2.0
PRODID:icalendar-ruby
CALSCALE:GREGORIAN
BEGIN:VTIMEZONE
TZID:Europe/Zurich
BEGIN:DAYLIGHT
DTSTART:20240331T030000
TZOFFSETFROM:+0100
TZOFFSETTO:+0200
RRULE:FREQ=YEARLY;BYDAY=-1SU;BYMONTH=3
TZNAME:CEST
END:DAYLIGHT
BEGIN:STANDARD
DTSTART:20241027T020000
TZOFFSETFROM:+0200
TZOFFSETTO:+0100
RRULE:FREQ=YEARLY;BYDAY=-1SU;BYMONTH=10
TZNAME:CET
END:STANDARD
END:VTIMEZONE
BEGIN:VEVENT
DTSTAMP:20260423T125249Z
UID:NDcqtw
DTSTART;TZID=Europe/Zurich:20240606T100000
DTEND;TZID=Europe/Zurich:20240606T170000
CLASS:PUBLIC
CREATED:20240301T101659
DESCRIPTION: As various industries are beginning their journey towards net\
 nzero\, we invite you to gain insights into existing approaches to mitigat
 ing CO2\nemissions in different sectors and to explore novel and innovativ
 e ideas for\nachieving carbon removal beyond emissions reductions. We aim 
 to bring together\nestablished industry players\, scientists\, and start-u
 ps in order to exchange\nthoughts and discuss ideas for advancing the indu
 stry towards net zero\ntogether. In addition\, you will have the chance to
  visit NEST – the modular\nresearch and innovation building of Empa and 
 Eawag where new technologies\,\nmaterials and systems are tested\, researc
 hed and further developed under real\nconditions. Finally\, alumni and cur
 rent participants of the Innovation Boosters\n“Zero Emissions Plastics
 ” and “Carbon Removal” will share their experiences of\nparticipatin
 g in the program and developing radical ideas. \n
LAST-MODIFIED:20240607T082642
LOCATION:Empa\, Überlandstrasse 129\, CH-8600 Dübendorf\, Switzerland
ORGANIZER:mailto:theo.sandu@composites-united.com
SUMMARY:Exploring Negative Emission Technologies in the Plastic Industry
URL;VALUE=URI:https://ti.to/composites-united-switzerland/exploring-negativ
 e-emission-technologies-in-the-plastic-industry
URL;VALUE=URI:https://ti.to/composites-united-switzerland/exploring-negativ
 e-emission-technologies-in-the-plastic-industry
END:VEVENT
END:VCALENDAR
