BEGIN:VCALENDAR
VERSION:2.0
PRODID:icalendar-ruby
CALSCALE:GREGORIAN
BEGIN:VEVENT
DTSTAMP:20260426T015021Z
UID:UJNekw
DTSTART;VALUE=DATE:20210218
DTEND;VALUE=DATE:20210219
CLASS:PUBLIC
CREATED:20210202T135253
DESCRIPTION: If you're applying to the CSF Call - All Sectors\, this worksh
 op is a must-attend event. \n\n Dublin BIC will host a virtual workshop fo
 r the upcoming Competitive Start Fund (CSF) call in 2021. The workshop wil
 l offer applicants a deeper understanding of the CSF process and Enterpris
 e Ireland's requirements for a successful application.\nFor further inform
 ation on the support day check out our website \n\n There will be a max of
  20 people per session. \n\n \n Date: Thursday 18th February 2021 \n Sessi
 on : From 10am to 12pm \n Location: On line using Zoom (link will be sent 
 in advance) \n \n\n Applicants should ideally be able to demonstrate the f
 ollowing: \n\n \n That the product or service has reached MVP stage\, and 
 that the product is\, at a minimum\, live in beta. \n That the product or 
 service has demonstrable customer validation with (trial and/or paying) cu
 stomers. \n A fully articulated proposition addressing a clear gap in the 
 market with market research conducted with customers/potential customers. 
 \n Evidence of innovation\, export potential and employment capacity. Clea
 r market opportunity for the proposed product or service. Clear knowledge 
 of the competitive landscape. \n Clear execution plan outlined\, identifyi
 ng suitable channels to international markets. \n \n\n For more informatio
 n and to check eligibility\, check here:  https://bit.ly/1N6VoNn \n
LAST-MODIFIED:20210429T082203
LOCATION:Virtual Workshop
ORGANIZER:mailto:clairedevine@dublinbic.ie
SUMMARY:CSF Workshop Call 66 - All Sectors
URL;VALUE=URI:https://ti.to/competitive-start-fund-support-days/2021-allsec
 torscall66
URL;VALUE=URI:https://ti.to/competitive-start-fund-support-days/2021-allsec
 torscall66
END:VEVENT
END:VCALENDAR
