BEGIN:VCALENDAR
VERSION:2.0
PRODID:icalendar-ruby
CALSCALE:GREGORIAN
BEGIN:VEVENT
DTSTAMP:20260419T145118Z
UID:ZBdB9Q
DTSTART:20261013T110000
DTEND:20261013T190000
CLASS:PUBLIC
CREATED:20260412T102732
DESCRIPTION: Cloud Native &amp\; Open Source AI Conference 2026 — Virtual
  is a global\, community-led event bringing together engineers\, AI practi
 tioners\, and technical leaders building the next generation of intelligen
 t\, cloud-native systems. \n\n Delivered as a full-day virtual experience\
 , the conference explores the convergence of open-source AI\, cloud-native
  architectures\, and modern platform engineering\, with a focus on real-wo
 rld implementations\, scalable infrastructure\, and emerging areas such as
  GenAI and agentic AI. \n\n Designed as a high-signal\, single-track event
 \, it delivers a continuous stream of technical deep dives\, real-world ca
 se studies\, and practitioner-led discussions\, providing a focused enviro
 nment for builders and leaders shaping the future of AI at scale. \n
LAST-MODIFIED:20260412T103232
LOCATION:Online
ORGANIZER:mailto:meetup@communitystack.io
SUMMARY:Cloud Native & Open Source AI Global Conf
URL;VALUE=URI:https://ti.to/communitystack/cloud-native-open-source-ai-glob
 al-conf
URL;VALUE=URI:https://ti.to/communitystack/cloud-native-open-source-ai-glob
 al-conf
END:VEVENT
END:VCALENDAR
