BEGIN:VCALENDAR
VERSION:2.0
PRODID:icalendar-ruby
CALSCALE:GREGORIAN
BEGIN:VEVENT
DTSTAMP:20260422T163951Z
UID:m2qVbQ
DTSTART;VALUE=DATE:20190329
DTEND;VALUE=DATE:20190406
CLASS:PUBLIC
CREATED:20190311T093910
DESCRIPTION: Siri\, Google Assistant\, Cortana... Los asistentes virtuales 
 ya están aquí y están de moda. Pero ¿sabes cómo crear asistentes virt
 uales que nos ayuden en nuestro día a día y en nuestros proyectos?\nEn e
 ste workshop aprenderás a desarrollar un asistente virtual desde cero ten
 iendo en cuenta tres enfoques que afectan al éxito de nuestros VUI (UX\, 
 Técnico y Negocio). \n\n QUÉ VAS A APRENDER \n\n VUX \n\n \n Cómo dise
 ñar interfaces vocales para las principales plataformas \n Diseño de Per
 sonalidad y voz del producto. \n Diseño situacional. \n Sesgos y modelos 
 mentales. \n Cómo escribir un diálogo y validarlo. \n Herramientas de di
 seño para VUI \n \n\n BUSINESS \n\n \n Expectativas y mercado. Comprender
  el negocio que hay en VUI \n Nuevas profesiones y el impacto en la indust
 ria. \n Modelos de negocio existentes y cómo crear uno propio. \n Formas 
 de monetización de tu producto. \n \n\n TECH \n\n \n Cómo hacer nuestro 
 primer bot para Google Assistant con Actions on Google. \n ¿Montamos una 
 skill para Alexa? No problem! \n Un backend para todos\, desarrollaremos u
 n backend que le de la inteligencia a nuestro asistente de voz\, y será e
 l mismo para las dos skills. \n La web se pinta en html y la voz… en SSM
 L \n Publica tu action y tu skill\, la tarea más dura. \n Estrategias de 
 desarrollo de producto para varias plataformas \n \n\n ESTE WORKSHOP ES PA
 RA TI SI... \n\n \n Quieres saber de qué va todo esto de las interfaces v
 ocales (¿the next big thing?). \n Quieres comprender cuál es el proceso 
 detrás de diseñar interfaces que no se ven (¡ni se tocan!). \n Quieres 
 crear tus propios bots. \n Es recomendable tener experiencia en JS. ¿No t
 ienes? No te preocupes\, uno de nuestros compañeros te echará una mano. 
 \n \n\n QUÉ SE INCLUYE EN EL CURSO \n\n \n Set de plantillas y blueprints
  para diseñar VUI (las mismas que usamos nosotros en nuestros proyectos) 
 \n Libreta\, bolígrafo y post-its. \n Resumen con fotografías del curso.
  \n Fotocopias de las diapositivas. \n Certificado de participación. \n C
 offee-break\, bebidas\, comida del sábado.  \n Acceso gratuito al Slack d
 e Collisions Projects y al canal exclusivo para Alumni de este curso. \n \
 n\n CUÁNDO \n\n Tres días (16h).\nEn fin de semana para que puedas compa
 tibilizarlo con tu trabajo.\nCon unos días antes de la última sesión\, 
 para que tengas tiempo de asimilar el contenido y encontrar preguntas y du
 das que podamos resolver durante el propio curso. \n\n \n  Viernes 29 de m
 arzo 17.00-21.00 \n Sábado 30 de marzo 10.00-19.00 (comida incluida en el
  precio) \n Viernes 5 de abril 17.00-21.00 \n \n\n ¿Tienes dudas? Hablamo
 s contigo. Escribenos a [hellocollisionsprojects@gmail.com] \n\n HALL OF F
 AME \n\n “Una de las áreas más grandes que estamos abordando con AI es
  Google Assistant. Nuestra visión para el ayudante perfecto es que sea na
 tural y cómodo hablar con él\, y allí en el momento correcto de la mane
 ra correcta cuando lo necesitas” \nGoogle \n\n "Realmente creo que podem
 os disruptir el espacio de las comunicaciones con la voz. Tenemos el poten
 cial de cambiar la forma en que las personas se comunican entre sí"\nAmaz
 on \n\n APRENDE DE LOS PIONEROS \n\n Google: [youtube:JvbHubVag]  \n\n Ama
 zon: [youtube:oIapDT6X0-Y]  \n
LAST-MODIFIED:20190319T172928
LOCATION:Madrid
ORGANIZER:mailto:hellocollisionsprojects@gmail.com
SUMMARY:Workshop VUI 2019 - Madrid
URL;VALUE=URI:https://ti.to/collisions-projects/workshop-vui-2019
URL;VALUE=URI:https://ti.to/collisions-projects/workshop-vui-2019
END:VEVENT
END:VCALENDAR
