BEGIN:VCALENDAR
VERSION:2.0
PRODID:icalendar-ruby
CALSCALE:GREGORIAN
BEGIN:VEVENT
DTSTAMP:20260422T035005Z
UID:MSYUdA
DTSTART;VALUE=DATE:20181113
DTEND;VALUE=DATE:20181116
CLASS:PUBLIC
CREATED:20171207T145215
DESCRIPTION: The price includes: 2 conference days with talks\, 1 community
  day with workshops\, social dinners and parties! \n
LAST-MODIFIED:20190309T071601
LOCATION:Copenhagen\, Denmark
ORGANIZER:mailto:hello@coldfront.co
SUMMARY:ColdFront 2018
URL;VALUE=URI:https://ti.to/coldfront/coldfront-2018
URL;VALUE=URI:https://ti.to/coldfront/coldfront-2018
END:VEVENT
END:VCALENDAR
