BEGIN:VCALENDAR
VERSION:2.0
PRODID:icalendar-ruby
CALSCALE:GREGORIAN
BEGIN:VEVENT
DTSTAMP:20260422T165225Z
UID:cp5Giw
DTSTART;VALUE=DATE:20150331
DTEND;VALUE=DATE:20150401
CLASS:PUBLIC
CREATED:20150211T220803
LAST-MODIFIED:20231212T102856
LOCATION:
ORGANIZER:mailto:feedback@ull.ie
SUMMARY:Codestarter Úll 2015 5k: Run to give a laptop to a child
URL;VALUE=URI:https://ti.to/codestarter/ull-2015-5k
URL;VALUE=URI:https://ti.to/codestarter/ull-2015-5k
END:VEVENT
END:VCALENDAR
