BEGIN:VCALENDAR
VERSION:2.0
PRODID:icalendar-ruby
CALSCALE:GREGORIAN
BEGIN:VEVENT
DTSTAMP:20260421T100431Z
UID:Xv1OLA
DTSTART;VALUE=DATE:20140501
DTEND;VALUE=DATE:20140504
CLASS:PUBLIC
CREATED:20131218T172312
DESCRIPTION: A conference about Javascript\, fresh ideas and what's to come
  next. Barcelona Future JS is a two-days single track conference. It striv
 es to provide useful knowledge about Javascript to apply in the day-to-day
  work. The conference aims to meet and exceed the needs of attendance. \n
LAST-MODIFIED:20170404T074256
LOCATION:Auditori AXA\, Barcelona
ORGANIZER:mailto:info@futurejs.org
SUMMARY:Barcelona FutureJS
URL;VALUE=URI:https://ti.to/codegram/futurejs
URL;VALUE=URI:https://ti.to/codegram/futurejs
END:VEVENT
END:VCALENDAR
