BEGIN:VCALENDAR
VERSION:2.0
PRODID:icalendar-ruby
CALSCALE:GREGORIAN
BEGIN:VEVENT
DTSTAMP:20260422T085725Z
UID:ldvtrw
DTSTART;VALUE=DATE:20190918
DTEND;VALUE=DATE:20190919
CLASS:PUBLIC
CREATED:20190122T121220
DESCRIPTION: Digital Skills 4 Girls is a new club for girls under 18 who wa
 nt to learn new digital skills or develop existing skills. \n\n From codin
 g and gaming to digital design and video\, DS4G is a friendly and supporti
 ve environment to learn new skills and meet new friends. \n\n Girls will g
 et the chance to experience a range of digital disciplines\, including 3D 
 printing\, coding\, photography\, video\, design\, web development and ani
 mation. Varies each month \n\n Guided by a team of  volunteer mentors\, at
 tendees will get the opportunity to work on different digital aspects of m
 ultiple projects. \n\n This is Part 2 of a 2 part Youtube Special\, in the
  second session you will learn: \n\n Editing \n\n Think like the viewer - 
 you don't have to keep every recording \n\n Music \n\n Transitions \n\n Ca
 ption \n\n Call to action \n\n Uploading \n\n Descriptive titles and descr
 iption 200 words \n\n Keywords &amp\; tags \n\n Comments \n\n Request and 
 following \n\n Negative comments \n\n CONCLUSION \n\n Don't be afraid to f
 ail. Learning process\, try and try again\nTry grow your channel / post re
 gularly\, speak to your audience\, branding \n\n The current minimum age f
 or attendees in 10 years old\, this may change in the future. \n\n DS4G is
  kindly sponsored by CodeBase Stirling tenant CitNOW \n\n DISCLAIMER: Chil
 dren need to be over the age of 13 years old to create their own Youtube c
 hannel\, and can only do so with their parents' consent.  \n\n See here fo
 r more information: https://www.net-aware.org.uk/networks/youtube/ \n
LAST-MODIFIED:20190827T095915
LOCATION:
ORGANIZER:mailto:kelly@thisiscodebase.com
SUMMARY:Digital Skills 4 Girls
URL;VALUE=URI:https://ti.to/codebase-stirling/digital-skills-4-girls-sept
URL;VALUE=URI:https://ti.to/codebase-stirling/digital-skills-4-girls-sept
END:VEVENT
END:VCALENDAR
