BEGIN:VCALENDAR
VERSION:2.0
PRODID:icalendar-ruby
CALSCALE:GREGORIAN
BEGIN:VEVENT
DTSTAMP:20260420T020019Z
UID:P6npSw
DTSTART;VALUE=DATE:20231207
DTEND;VALUE=DATE:20231208
CLASS:PUBLIC
CREATED:20231117T141515
DESCRIPTION: The Path Ahead: is a series of virtual events brought to you b
 y codebar and You Got This that explore the different stages of a software
  developer's career\, from getting started to becoming a tech leader. \n\n
  Year 2 and Beyond is the third and final in our series of events\, where 
 they'll be talks focused on what happens once you are a few years into you
 r career. Do you start looking into leadership roles\, or do you start you
 r own company. \n\n Talks include : \n\n \n From Code to Command: Navigati
 ng the Management Ladder in Tech - Vahid Panjganj \n Beyond the Basics: Ac
 celerating Your Career in a Startup - Nikki Christofi \n Aligning Your Ski
 lls With Company Success - Adam Hogarty \n \n
LAST-MODIFIED:20260129T105033
LOCATION:Virtual - GMT
ORGANIZER:mailto:accounts@codebar.io
SUMMARY:The Path Ahead - Year 2 and Beyond
URL;VALUE=URI:https://ti.to/codebar/the-path-ahead-navigating-year-2-and-be
 yond
URL;VALUE=URI:https://ti.to/codebar/the-path-ahead-navigating-year-2-and-be
 yond
END:VEVENT
BEGIN:VEVENT
DTSTAMP:20260420T020019Z
UID:P6npSw1064636
DTSTART:20231207T180000
DTEND:20231207T200000
CLASS:PUBLIC
CREATED:20231117T141516
LAST-MODIFIED:20231117T142404
ORGANIZER:mailto:accounts@codebar.io
SUMMARY:[The Path Ahead - Year 2 and Beyond] Talks
URL;VALUE=URI:https://ti.to/codebar/the-path-ahead-navigating-year-2-and-be
 yond
URL;VALUE=URI:https://ti.to/codebar/the-path-ahead-navigating-year-2-and-be
 yond
END:VEVENT
END:VCALENDAR
