BEGIN:VCALENDAR
VERSION:2.0
PRODID:icalendar-ruby
CALSCALE:GREGORIAN
BEGIN:VEVENT
DTSTAMP:20260420T083323Z
UID:1KYrrg
DTSTART;VALUE=DATE:20170824
DTEND;VALUE=DATE:20170826
CLASS:PUBLIC
CREATED:20170220T200707
DESCRIPTION: An Ops and Systems Programming Conference from Code &amp\; Sup
 ply. \n\n Uptime will be a single track conference focusing on skills and 
 technologies that improve software delivery and infrastructure management.
  \n\n Featuring a hand-picked lineup of presenters that we think best emph
 asize the values and ideas that will move our community forward. \n
LAST-MODIFIED:20170826T160651
LOCATION:Pittsburgh\, PA
ORGANIZER:mailto:conferences@codeandsupply.co
SUMMARY:Uptime
URL;VALUE=URI:https://ti.to/codeandsupply/uptime
URL;VALUE=URI:https://ti.to/codeandsupply/uptime
END:VEVENT
END:VCALENDAR
