BEGIN:VCALENDAR
VERSION:2.0
PRODID:icalendar-ruby
CALSCALE:GREGORIAN
BEGIN:VEVENT
DTSTAMP:20260422T021839Z
UID:qSddZQ
DTSTART;VALUE=DATE:20150124
DTEND;VALUE=DATE:20150125
CLASS:PUBLIC
CREATED:20141229T181959
LAST-MODIFIED:20231212T102856
LOCATION:The Living Room\, 2423 W North Ave\, Chicago\, IL
ORGANIZER:mailto:hello@codeandcupcakes.net
SUMMARY:January 2015 Workshop
URL;VALUE=URI:https://ti.to/codeandcupcakes/january-2015-workshop
URL;VALUE=URI:https://ti.to/codeandcupcakes/january-2015-workshop
END:VEVENT
END:VCALENDAR
