BEGIN:VCALENDAR
VERSION:2.0
PRODID:icalendar-ruby
CALSCALE:GREGORIAN
BEGIN:VEVENT
DTSTAMP:20260424T213852Z
UID:Urddyw
DTSTART;VALUE=DATE:20181124
DTEND;VALUE=DATE:20181125
CLASS:PUBLIC
CREATED:20181029T213855
DESCRIPTION: Hong Kong Code Conf 2018 is our 5th annual Coding Conference. 
 \n\n Organised by Hong Kong Coders for Hong Kong Coders. \n\n \n We want t
 o share our skills and opinions. \n We want to inspire each other with our
  passion. \n We want to build a closer\, stronger community. \n \n\n If yo
 u love Coding\, then we hope to see you there. \n\n We are proudly sponsor
 ed by: \n\n \n Credit Suisse \n GoGoVan \n Chengbao \n Neat \n PayMe \n \n
LAST-MODIFIED:20181124T002201
LOCATION:Hong Kong
ORGANIZER:mailto:matthewrudyjacobs@gmail.com
SUMMARY:Hong Kong Code Conf 2018
URL;VALUE=URI:https://ti.to/codeaholics/hong-kong-code-conf-2018
URL;VALUE=URI:https://ti.to/codeaholics/hong-kong-code-conf-2018
END:VEVENT
END:VCALENDAR
