BEGIN:VCALENDAR
VERSION:2.0
PRODID:icalendar-ruby
CALSCALE:GREGORIAN
BEGIN:VTIMEZONE
TZID:Europe/London
BEGIN:DAYLIGHT
DTSTART:20240331T020000
TZOFFSETFROM:+0000
TZOFFSETTO:+0100
RRULE:FREQ=YEARLY;BYDAY=-1SU;BYMONTH=3
TZNAME:BST
END:DAYLIGHT
BEGIN:STANDARD
DTSTART:20231029T010000
TZOFFSETFROM:+0100
TZOFFSETTO:+0000
RRULE:FREQ=YEARLY;BYDAY=-1SU;BYMONTH=10
TZNAME:GMT
END:STANDARD
END:VTIMEZONE
BEGIN:VEVENT
DTSTAMP:20260423T184509Z
UID:OT4yOQ
DTSTART;VALUE=DATE:20231118
DTEND;VALUE=DATE:20231120
CLASS:PUBLIC
CREATED:20230808T153602
DESCRIPTION: The Scottish Open Data Unconference (SODU) is back for 2023 - 
 following on the success of previous year's online and last year's physica
 l events. \n\n It will run over two days at the ONE Tech Hub\, Aberdeen. \
 n\n Single day tickets\, full weekend ones\, and student tickets are now a
 vailable. \n
LAST-MODIFIED:20251126T131419
LOCATION:ONE TechHub
ORGANIZER:mailto:ian@codethecity.org
SUMMARY:SODU 2023
URL;VALUE=URI:https://ti.to/code-the-city/sodu-2023
URL;VALUE=URI:https://ti.to/code-the-city/sodu-2023
END:VEVENT
END:VCALENDAR
