BEGIN:VCALENDAR
VERSION:2.0
PRODID:icalendar-ruby
CALSCALE:GREGORIAN
BEGIN:VTIMEZONE
TZID:Europe/London
BEGIN:DAYLIGHT
DTSTART:20200329T020000
TZOFFSETFROM:+0000
TZOFFSETTO:+0100
RRULE:FREQ=YEARLY;BYDAY=-1SU;BYMONTH=3
TZNAME:BST
END:DAYLIGHT
BEGIN:STANDARD
DTSTART:20201025T010000
TZOFFSETFROM:+0100
TZOFFSETTO:+0000
RRULE:FREQ=YEARLY;BYDAY=-1SU;BYMONTH=10
TZNAME:GMT
END:STANDARD
END:VTIMEZONE
BEGIN:VEVENT
DTSTAMP:20260420T220945Z
UID:UhaKyQ
DTSTART;VALUE=DATE:20200905
DTEND;VALUE=DATE:20200907
CLASS:PUBLIC
CREATED:20200711T142856
DESCRIPTION: SODU 2020 the first Scottish open data unconference had to be 
 postponed in March 2020. \n\n We've now rescheduled it as an online event 
 over two days. \n
LAST-MODIFIED:20251126T131419
LOCATION:Online via Zoom
ORGANIZER:mailto:ian@codethecity.org
SUMMARY:SODU 2020 online
URL;VALUE=URI:https://ti.to/code-the-city/sodu-2020-online
URL;VALUE=URI:https://ti.to/code-the-city/sodu-2020-online
END:VEVENT
END:VCALENDAR
