BEGIN:VCALENDAR
VERSION:2.0
PRODID:icalendar-ruby
CALSCALE:GREGORIAN
BEGIN:VEVENT
DTSTAMP:20260423T224927Z
UID:xoTWAg
DTSTART:20240316T093000
DTEND:20240317T163000
CLASS:PUBLIC
CREATED:20240213T154557
DESCRIPTION: A hack weekend on the theme of Democracy. \n\n For more detail
 s please see the event homepage: https://codethecity.org/ctc31 \n\n Please
  note that we have policies for participants on acceptable conduct and Cov
 id 19. By signing up you agree to these conditions of attendance. \n\nTick
 ets prices shown are a suggested donation to our charity. You can reduce t
 hese to a minimum level. If you find that minimum price is a barrier to yo
 u attending please see the instructions on the event homepage  \n
LAST-MODIFIED:20251126T131419
LOCATION:At ONE Tech Hub
ORGANIZER:mailto:info@codethecity.org
SUMMARY:CTC31 - Democracy
URL;VALUE=URI:https://ti.to/code-the-city/ctc31
URL;VALUE=URI:https://ti.to/code-the-city/ctc31
END:VEVENT
END:VCALENDAR
