BEGIN:VCALENDAR
VERSION:2.0
PRODID:icalendar-ruby
CALSCALE:GREGORIAN
BEGIN:VEVENT
DTSTAMP:20260423T213938Z
UID:cSfYGQ
DTSTART;VALUE=DATE:20230923
DTEND;VALUE=DATE:20230925
CLASS:PUBLIC
CREATED:20230702T111343
DESCRIPTION: A hack weekend on the theme of Union Street and the City Centr
 e. \n\n For more details please see the event homepage: https://codethecit
 y.org/ctc30 \n\n Please note that we have policies for participants on acc
 eptable conduct and Covid 19. By signing up you agree to these conditions 
 of attendance. \n\nTickets prices shown are a suggested donation to our ch
 arity. You can reduce these to a minimum level. If you find that minimum p
 rice is a barrier to you attending please see the instructions on the even
 t homepage  \n
LAST-MODIFIED:20251126T131419
LOCATION:At ONE Tech Hub
ORGANIZER:mailto:info@codethecity.org
SUMMARY:CTC30 - Union Street and Aberdeen City Centre
URL;VALUE=URI:https://ti.to/code-the-city/ctc30
URL;VALUE=URI:https://ti.to/code-the-city/ctc30
END:VEVENT
END:VCALENDAR
