BEGIN:VCALENDAR
VERSION:2.0
PRODID:icalendar-ruby
CALSCALE:GREGORIAN
BEGIN:VEVENT
DTSTAMP:20260423T214034Z
UID:YRWkzA
DTSTART;VALUE=DATE:20230318
DTEND;VALUE=DATE:20230320
CLASS:PUBLIC
CREATED:20220419T093921
DESCRIPTION: A hack weekend on the theme of Connections. \n\n This event ha
 s the broad theme of Connections.  This is a broad area and can be interpr
 eted in any way that attendees wish. For example\, it could refer to  \n\n
  \n connections between people\; \n network connections to mobile devices 
 or IOT devices\; \n connections between items in Linked (Open) Data\; \n c
 onnecting datasets such as those from Open Data Scotland\; \n connecting s
 ervice users with provider\; \n or any other relevant idea you might have.
  \n \n\n For more details please look at the event homepage \n\n *We're al
 so running a ***Wikipedia / Wikidata Editathon** on the Saturday only. Ple
 ase choose the appropriate ticket. This will be suitable for new and exper
 ienced editors\, and will be linked to our Connections theme. \n\n Please 
 note that we have policies for participants on acceptable conduct and Covi
 d 19. By signing up you agree to these conditions of attendance. \n\nTicke
 ts prices shown are a suggested donation to our charity. You can reduce th
 ese to a minimum level. If you find that minimum price is a barrier to you
  attending please see the instructions on the event homepage \n\n We're gr
 ateful to Converged Communications for their sponsorship of this event. \n
LAST-MODIFIED:20251126T131419
LOCATION:At ONE Tech Hub and Online
ORGANIZER:mailto:info@codethecity.org
SUMMARY:CTC28
URL;VALUE=URI:https://ti.to/code-the-city/ctc28
URL;VALUE=URI:https://ti.to/code-the-city/ctc28
END:VEVENT
END:VCALENDAR
