BEGIN:VCALENDAR
VERSION:2.0
PRODID:icalendar-ruby
CALSCALE:GREGORIAN
BEGIN:VEVENT
DTSTAMP:20260423T213739Z
UID:B6dJTA
DTSTART;VALUE=DATE:20220910
DTEND;VALUE=DATE:20220912
CLASS:PUBLIC
CREATED:20220419T093554
DESCRIPTION: Join us for a deep dive into Education in all its forms. \n\n 
 Expect several challenges from which we will create projects on which team
 s will work over the weekend. \n
LAST-MODIFIED:20251126T131419
LOCATION:At ONE Tech Hub and Online
ORGANIZER:mailto:info@codethecity.org
SUMMARY:CTC27 - Education
URL;VALUE=URI:https://ti.to/code-the-city/ctc27
URL;VALUE=URI:https://ti.to/code-the-city/ctc27
END:VEVENT
END:VCALENDAR
