BEGIN:VCALENDAR
VERSION:2.0
PRODID:icalendar-ruby
CALSCALE:GREGORIAN
BEGIN:VEVENT
DTSTAMP:20260423T213641Z
UID:0Dd9VA
DTSTART;VALUE=DATE:20220219
DTEND;VALUE=DATE:20220221
CLASS:PUBLIC
CREATED:20211216T125417
DESCRIPTION: At what will be our milestone 25th hack weekend we will be loo
 king at what is involved in creating and sharing products openly. This mig
 ht be data\, information\, images\, software code or even hardware.  \n\n 
 We'll have some existing projects that you can join\, some new projects th
 at you can be part of the team on\, or you can bring your own challenges t
 hat you would like to work on.  \n\n Whichever route you go down\, the det
 ermining factors is openness - open licensing\, transparency\, sharing and
  re-use.  \n
LAST-MODIFIED:20251126T131419
LOCATION:Online - with possible Aberdeen physical space
ORGANIZER:mailto:info@codethecity.org
SUMMARY:CTC25 - Creating and Sharing Openly
URL;VALUE=URI:https://ti.to/code-the-city/ctc25
URL;VALUE=URI:https://ti.to/code-the-city/ctc25
END:VEVENT
END:VCALENDAR
