BEGIN:VCALENDAR
VERSION:2.0
PRODID:icalendar-ruby
CALSCALE:GREGORIAN
BEGIN:VEVENT
DTSTAMP:20260420T150407Z
UID:GtdZQw
DTSTART;VALUE=DATE:20211127
DTEND;VALUE=DATE:20211129
CLASS:PUBLIC
CREATED:20211007T160427
DESCRIPTION: We're back with our 24th Hack Weekend. This time our focus is 
 on putting the theories of Open into practice. \n\n So\, except Open Data\
 , Open Information\, Open licensing of images\, Open working practices  ..
 .. \n\n It will be run over the weekend of  27 and 28 November 2021 and fu
 lly on Zoom - with pitching sessions\, project formation and breakout room
 s\, pretty much as we would do a regular CTC event. We'll update webpage a
 s more details are released. \n\n Grab a ticket now and put your talents t
 o work on some fascinating projects! \n\n Anyone attending agrees to our s
 tandard participation agreement \n\n Please note that tickets are free to 
 attend our events. We do suggest a £5 donation to assist our charity with
  admin and other costs. If this is a barrier\, just change the ticket pric
 e below to £0 (or what you'd like to pay). \n
LAST-MODIFIED:20251126T131419
LOCATION:online
ORGANIZER:mailto:ian@codethecity.org
SUMMARY:CTC24 -  Open in Practice
URL;VALUE=URI:https://ti.to/code-the-city/ctc24-open-in-practice
URL;VALUE=URI:https://ti.to/code-the-city/ctc24-open-in-practice
END:VEVENT
END:VCALENDAR
