BEGIN:VCALENDAR
VERSION:2.0
PRODID:icalendar-ruby
CALSCALE:GREGORIAN
BEGIN:VEVENT
DTSTAMP:20260422T064125Z
UID:JQcfgw
DTSTART;VALUE=DATE:20210612
DTEND;VALUE=DATE:20210614
CLASS:PUBLIC
CREATED:20210402T124231
DESCRIPTION: This event will address the future of the city. \n\n What do c
 hanging pressures\, both recent and longterm\, mean for the future of our 
 cities? What opportunities and challenges do these raise for how we live\,
  work\, travel\, shop and play in these urban conurbations? \n\n Join us\,
  and a diverse mix of citizens\, academics\, subject specialists and those
  with a passion for the subject as we generate ideas\, create small projec
 ts with teams who will ideate over the weekend\, creating quick prototypes
  of what the future could look like. \n\n It will be run over the weekend 
 of  12 and 13 June 2021 and fully on Zoom - with pitching sessions\, proje
 ct formation and breakout rooms\, pretty much as we would do a regular CTC
  event. We'll update webpage as more details are released. \n\n Grab a tic
 ket now and put your talents to work on some fascinating projects! \n\n An
 yone attending agrees to our standard participation agreement \n\n Please 
 note that tickets are free to attend our events. We do suggest a £5 donat
 ion to assist our charity with admin and other costs. If this is a barrier
 \, just change the ticket price below to £0 (or what you'd like to pay). 
 \n
LAST-MODIFIED:20251126T131419
LOCATION:online
ORGANIZER:mailto:ian@codethecity.org
SUMMARY:CTC23  - The Future of The City
URL;VALUE=URI:https://ti.to/code-the-city/ctc23-the-future-of-the-city
URL;VALUE=URI:https://ti.to/code-the-city/ctc23-the-future-of-the-city
END:VEVENT
END:VCALENDAR
