BEGIN:VCALENDAR
VERSION:2.0
PRODID:icalendar-ruby
CALSCALE:GREGORIAN
BEGIN:VEVENT
DTSTAMP:20260425T192023Z
UID:dAQsNA
DTSTART:20250902T180000
DTEND:20250902T203000
CLASS:PUBLIC
CREATED:20250817T140710
DESCRIPTION: "Let’s Play with the New AI Tools: Local and Online Image\, 
 Video\, and 3D Gen" - Joe Ronie \n\n Session Description \n\n AI tools are
  evolving fast — and we’re going hands-on. This session is part demo\,
  part live testing ground for the newest tools in image generation\, video
  synthesis\, and 3D object creation. We’ll explore both online APIs (lik
 e WAN 2.2 and Google’s image-to-3D pipeline) and local tools you can run
  yourself. \n\n Bring your laptop\, bring your GPU\, bring your questions 
 — we’re going to get into what’s working\, what’s breaking\, and w
 hat’s next. Whether you're a developer\, artist\, or just curious\, you
 ’ll leave with tools you can use today. \n\n Speaker Bio \n\n Joe Ronie 
 is a product architect and systems engineer with 8 years at AWS\, where he
  learned how to build and scale real infrastructure. He brought that exper
 ience to gaming\, helping launch Lost Ark\, which became the #2 MMO on Ste
 am that year. Now he builds AI-driven products across industries — from 
 computer vision in robotics to custom AI copilots — with a focus on fast
  prototyping\, local-first deployment\, and real-world results. \n\n -----
 --------------------------------------------------------------- \n\n  \nTh
 is event is organised by a charity - Code The City. \n\n CTC suggests a sm
 all donation to help with charity admin costs\, but if this is a barrier p
 lease just change the ticket price to what you can afford. If that is stil
 l a barrier\, just ask for a free ticket. \n\n We are now established in o
 ur new premises\, which is still a work in progress. That means that our d
 isability access is not what we want it to be. If you are uncomfortable wi
 th\, or unable to use stairs\, please book an online ticket for the Zoom s
 ession. We are working to improve this but it will take a few months. \n\n
  If you select a physical ticket and it happens that we cannot meet physic
 ally you will have to attend the Zoom session. \n\n Those attending the ph
 ysical space meetup should attend at 6pm for pizza and drinks. The talk wi
 ll be from 6.30pm. Doors will be locked from 6.30pm. \n\n **If tickets are
  sold out please do not attend as you will be refused entry without a tick
 et. ** \n\n Our booking system is provided by Tito. Their platform is inte
 grated with payment processing by Stripe Please note that if the booking s
 ystem asks for a credit card\, it means credit OR DEBIT card. \n\n Young C
 oder Photo by Kelly Sikkema on Unsplash \n
LAST-MODIFIED:20251126T131419
LOCATION:The Soap Factory\, 111 Gallowgate\, Aberdeen
ORGANIZER:mailto:info@codethecity.co.uk
SUMMARY:Aberdeen Data Meetup 02 September 2025
URL;VALUE=URI:https://ti.to/code-the-city/adm-sep-2025
URL;VALUE=URI:https://ti.to/code-the-city/adm-sep-2025
END:VEVENT
END:VCALENDAR
