BEGIN:VCALENDAR
VERSION:2.0
PRODID:icalendar-ruby
CALSCALE:GREGORIAN
BEGIN:VEVENT
DTSTAMP:20260425T173624Z
UID:t6dDgA
DTSTART;VALUE=DATE:20200314
DTEND;VALUE=DATE:20200316
CLASS:PUBLIC
CREATED:20191009T095948
DESCRIPTION: POSTPONED \n\n The first Scottish Open Data Unconference takes
  place in Aberdeen on 14-15 March 2020. \n
LAST-MODIFIED:20251126T131419
LOCATION:Aberdeen\, UK
ORGANIZER:mailto:ian@codethecity.org
SUMMARY:POSTPONED Scottish Open Data Unconference 2020
URL;VALUE=URI:https://ti.to/code-the-city/SODU2020
URL;VALUE=URI:https://ti.to/code-the-city/SODU2020
END:VEVENT
END:VCALENDAR
