BEGIN:VCALENDAR
VERSION:2.0
PRODID:icalendar-ruby
CALSCALE:GREGORIAN
BEGIN:VEVENT
DTSTAMP:20260422T035229Z
UID:TdCXUw
DTSTART;VALUE=DATE:20161027
DTEND;VALUE=DATE:20161028
CLASS:PUBLIC
CREATED:20161017T074628
DESCRIPTION: Join us for the Code for Ireland meetup on Thursday 27 October
  from 6pm to 9pm. We're delighted to once again be hosted by Dogpatch Labs
  in the CHQ Building\, Custom House Quay. \n
LAST-MODIFIED:20161104T124432
LOCATION:Dogpatch Labs\, The CHQ Building\, Custom House Quay\, Dublin 1.
ORGANIZER:mailto:info@codeforireland.com
SUMMARY:Code for Ireland - October 2016
URL;VALUE=URI:https://ti.to/code-for-ireland/october-2016-meetup
URL;VALUE=URI:https://ti.to/code-for-ireland/october-2016-meetup
END:VEVENT
END:VCALENDAR
