BEGIN:VCALENDAR
VERSION:2.0
PRODID:icalendar-ruby
CALSCALE:GREGORIAN
BEGIN:VEVENT
DTSTAMP:20260422T035414Z
UID:D2MHMw
DTSTART;VALUE=DATE:20161124
DTEND;VALUE=DATE:20161125
CLASS:PUBLIC
CREATED:20161104T124428
DESCRIPTION: Join us for the Code for Ireland meetup on Thursday 24 Novembe
 r from 6pm to 9pm. We're delighted to once again be hosted by Dogpatch Lab
 s in the CHQ Building\, Custom House Quay. \n
LAST-MODIFIED:20161115T204703
LOCATION:Dogpatch Labs\, The CHQ Building\, Custom House Quay\, Dublin 1.
ORGANIZER:mailto:info@codeforireland.com
SUMMARY:Code for Ireland - November 2016
URL;VALUE=URI:https://ti.to/code-for-ireland/november-2016-meetup
URL;VALUE=URI:https://ti.to/code-for-ireland/november-2016-meetup
END:VEVENT
END:VCALENDAR
