BEGIN:VCALENDAR
VERSION:2.0
PRODID:icalendar-ruby
CALSCALE:GREGORIAN
BEGIN:VEVENT
DTSTAMP:20260424T145643Z
UID:eLd0xA
DTSTART;VALUE=DATE:20160428
DTEND;VALUE=DATE:20160429
CLASS:PUBLIC
CREATED:20160421T192239
DESCRIPTION: Join us for the Code for Ireland meetup on Thursday 28 April f
 rom 6pm to 9pm. We're delighted to once again be hosted by Dogpatch Labs i
 n the CHQ Building\, Custom House Quay. \n
LAST-MODIFIED:20160512T180445
LOCATION:Dogpatch Labs\, The CHQ Building\, Custom House Quay\, Dublin 1.
ORGANIZER:mailto:info@codeforireland.com
SUMMARY:Code for Ireland - April 2016
URL;VALUE=URI:https://ti.to/code-for-ireland/april-2016-meetup
URL;VALUE=URI:https://ti.to/code-for-ireland/april-2016-meetup
END:VEVENT
END:VCALENDAR
