BEGIN:VCALENDAR
VERSION:2.0
PRODID:icalendar-ruby
CALSCALE:GREGORIAN
BEGIN:VTIMEZONE
TZID:Europe/Berlin
BEGIN:DAYLIGHT
DTSTART:20240331T030000
TZOFFSETFROM:+0100
TZOFFSETTO:+0200
RRULE:FREQ=YEARLY;BYDAY=-1SU;BYMONTH=3
TZNAME:CEST
END:DAYLIGHT
BEGIN:STANDARD
DTSTART:20241027T020000
TZOFFSETFROM:+0200
TZOFFSETTO:+0100
RRULE:FREQ=YEARLY;BYDAY=-1SU;BYMONTH=10
TZNAME:CET
END:STANDARD
END:VTIMEZONE
BEGIN:VEVENT
DTSTAMP:20260420T121055Z
UID:3JhqoA
DTSTART;VALUE=DATE:20240603
DTEND;VALUE=DATE:20240607
CLASS:PUBLIC
CREATED:20240229T114733
DESCRIPTION: Code Connect brings together four exciting events - CodeJam\, 
 reCAP\, UI5con\, and ABAPConf - all taking place in the same week and loca
 tion. This is your chance to deep dive into your chosen tech or broaden yo
 ur horizon\, understanding the end-to-end dev flow. Whether you're joining
  for just one event or the whole package\, be ready to connect\, collabora
 te\, and code away with a bustling community of like-minded developers! \n
 \n If you want to register for the CAP Code Jam on June 3rd\, please go he
 re. \n
LAST-MODIFIED:20251209T181139
LOCATION:St. Leon-Rot\, Germany
ORGANIZER:mailto:recap.conf@gmail.com
SUMMARY:Code Connect 2024
URL;VALUE=URI:https://ti.to/code-connect/2024
URL;VALUE=URI:https://ti.to/code-connect/2024
END:VEVENT
END:VCALENDAR
