BEGIN:VCALENDAR
VERSION:2.0
PRODID:icalendar-ruby
CALSCALE:GREGORIAN
BEGIN:VTIMEZONE
TZID:America/New_York
BEGIN:DAYLIGHT
DTSTART:20270314T030000
TZOFFSETFROM:-0500
TZOFFSETTO:-0400
RRULE:FREQ=YEARLY;BYDAY=2SU;BYMONTH=3
TZNAME:EDT
END:DAYLIGHT
BEGIN:STANDARD
DTSTART:20271107T010000
TZOFFSETFROM:-0400
TZOFFSETTO:-0500
RRULE:FREQ=YEARLY;BYDAY=1SU;BYMONTH=11
TZNAME:EST
END:STANDARD
END:VTIMEZONE
BEGIN:VEVENT
DTSTAMP:20260419T233306Z
UID:PzeL0Q
DTSTART;TZID=America/New_York:20270406T080000
DTEND;TZID=America/New_York:20270408T200000
CLASS:PUBLIC
CREATED:20260312T162435
DESCRIPTION: Les informations de l'édition 2027 ne sont pas encore disponi
 bles\, mais il est cependant possible de vous inscrire sur la liste d'atte
 nte afin de ne pas manquer l'ouverture des ventes! \n
LAST-MODIFIED:20260417T113633
LOCATION:Ville de Québec (Québec) Canada
ORGANIZER:mailto:info@capitalenumerique.com
SUMMARY:Rendez-vous numérique | 2027
URL;VALUE=URI:https://ti.to/cnum/rdvnum-2027
URL;VALUE=URI:https://ti.to/cnum/rdvnum-2027
END:VEVENT
END:VCALENDAR
